BEGIN:VCALENDAR
VERSION:2.0
PRODID:-//Classic Coatings Systems - ECPv6.6.4.2//NONSGML v1.0//EN
CALSCALE:GREGORIAN
METHOD:PUBLISH
X-WR-CALNAME:Classic Coatings Systems
X-ORIGINAL-URL:https://classiccoatingssystems.com
X-WR-CALDESC:Events for Classic Coatings Systems
REFRESH-INTERVAL;VALUE=DURATION:PT1H
X-Robots-Tag:noindex
X-PUBLISHED-TTL:PT1H
BEGIN:VTIMEZONE
TZID:UTC
BEGIN:STANDARD
TZOFFSETFROM:+0000
TZOFFSETTO:+0000
TZNAME:UTC
DTSTART:20250101T000000
END:STANDARD
END:VTIMEZONE
BEGIN:VEVENT
DTSTART;TZID=UTC:20250821T070000
DTEND;TZID=UTC:20250821T110000
DTSTAMP:20260421T151734
CREATED:20250808T221323Z
LAST-MODIFIED:20260110T052839Z
UID:10394-1755759600-1755774000@classiccoatingssystems.com
SUMMARY:Resource Building Materials PK
DESCRIPTION:
URL:https://classiccoatingssystems.com/seminar/resource-building-materials-pk/
LOCATION:Resource Building Materials – Downey\, 8020 Phlox Street\, Downey\, CA\, 90241
END:VEVENT
END:VCALENDAR